BEGIN:VCALENDAR
VERSION:2.0
PRODID:-//Administrative Professional Advisory Council - ECPv6.1.3//NONSGML v1.0//EN
CALSCALE:GREGORIAN
METHOD:PUBLISH
X-ORIGINAL-URL:https://apac.wsu.edu
X-WR-CALDESC:Events for Administrative Professional Advisory Council
REFRESH-INTERVAL;VALUE=DURATION:PT1H
X-Robots-Tag:noindex
X-PUBLISHED-TTL:PT1H
BEGIN:VTIMEZONE
TZID:America/Los_Angeles
BEGIN:DAYLIGHT
TZOFFSETFROM:-0800
TZOFFSETTO:-0700
TZNAME:PDT
DTSTART:20180311T100000
END:DAYLIGHT
BEGIN:STANDARD
TZOFFSETFROM:-0700
TZOFFSETTO:-0800
TZNAME:PST
DTSTART:20181104T090000
END:STANDARD
BEGIN:DAYLIGHT
TZOFFSETFROM:-0800
TZOFFSETTO:-0700
TZNAME:PDT
DTSTART:20190310T100000
END:DAYLIGHT
BEGIN:STANDARD
TZOFFSETFROM:-0700
TZOFFSETTO:-0800
TZNAME:PST
DTSTART:20191103T090000
END:STANDARD
BEGIN:DAYLIGHT
TZOFFSETFROM:-0800
TZOFFSETTO:-0700
TZNAME:PDT
DTSTART:20200308T100000
END:DAYLIGHT
BEGIN:STANDARD
TZOFFSETFROM:-0700
TZOFFSETTO:-0800
TZNAME:PST
DTSTART:20201101T090000
END:STANDARD
END:VTIMEZONE
BEGIN:VEVENT
DTSTART;TZID=America/Los_Angeles:20180913T090000
DTEND;TZID=America/Los_Angeles:20180913T113000
DTSTAMP:20260423T083725
CREATED:20180725T191145Z
LAST-MODIFIED:20180725T191145Z
UID:1090-1536829200-1536838200@apac.wsu.edu
SUMMARY:APAC Monthly Meeting
DESCRIPTION:All AP staff are invited to attend and participate in our meetings.
URL:https://apac.wsu.edu/event/apac-monthly-meeting-2/
LOCATION:WSU Pullman\, Lighty Student Services Building\, Room 401\, 1815 Wilson Rd\, Pullman\, 99164\, United States
END:VEVENT
BEGIN:VEVENT
DTSTART;TZID=America/Los_Angeles:20181011T093000
DTEND;TZID=America/Los_Angeles:20181011T103000
DTSTAMP:20260423T083725
CREATED:20180830T214625Z
LAST-MODIFIED:20181009T194651Z
UID:1106-1539250200-1539253800@apac.wsu.edu
SUMMARY:APAC Meeting
DESCRIPTION:The Administrative Professional Advisory Council (APAC) will host its monthly meeting Thursday\, October 11 from 9-10:30 a.m. at WSU Everett in room 412 and via AMS teleconferencing. All AP staff are invited to attend. This month’s guest speaker is Vice Provost Craig Parks. Presenting from Pullman\, Dr. Parks with discuss WSU’s family-friendly policies and policy changes that affect APs. \nMeeting locations: WSU Pullman (Lighty 405); WSU Spokane (SAC 401A); WSU Tri-Cities (Floyd 247); WSU Vancouver (VDEN 301); Puyallup REC (Puyallup k103); WSU Everett (412) \nConnect to APAC meetings via WSU Academic Media Services (AMS) sites: Call in number: 509-358-7935 | Meeting ID:  4580 \n 
URL:https://apac.wsu.edu/event/apac-meeting-2/
LOCATION:WSU Pullman\, Lighty Student Services Building\, Room 401\, 1815 Wilson Rd\, Pullman\, 99164\, United States
END:VEVENT
BEGIN:VEVENT
DTSTART;TZID=America/Los_Angeles:20181108T093000
DTEND;TZID=America/Los_Angeles:20181108T103000
DTSTAMP:20260423T083725
CREATED:20180830T214726Z
LAST-MODIFIED:20180830T214726Z
UID:1108-1541669400-1541673000@apac.wsu.edu
SUMMARY:APAC Meeting
DESCRIPTION:Connect to APAC meetings via WSU Academic Media Services (AMS) sites: Call in number: 509-358-7935 | Meeting ID:  4580 \nSasi Pillay\, vice President and Chief Information Officer
URL:https://apac.wsu.edu/event/apac-meeting-3/
LOCATION:WSU Pullman\, Lighty Student Services Building\, Room 401\, 1815 Wilson Rd\, Pullman\, 99164\, United States
END:VEVENT
BEGIN:VEVENT
DTSTART;TZID=America/Los_Angeles:20181213T090000
DTEND;TZID=America/Los_Angeles:20181213T103000
DTSTAMP:20260423T083725
CREATED:20180830T214851Z
LAST-MODIFIED:20181212T221333Z
UID:1110-1544691600-1544697000@apac.wsu.edu
SUMMARY:APAC Meeting
DESCRIPTION:Connect to APAC meetings via WSU Academic Media Services (AMS) sites: Call in number: 509-358-7935 | Meeting ID:  4580 \nTopic: Modernization Update \nMatt Skinner\, Associate Vice President for Finance and Administration\nJoy Morton\, Director of Financial Systems Modernization \nLocations: \nPullman (Lighty 405)\nSpokane (SAC 401A )\nTri-Cities (Floyd 247 )\nVancouver (VDEN 301 )\nPuyallup REC (Puyallup) (K 109)\nEverett (Everett conference room 440)
URL:https://apac.wsu.edu/event/apac-meeting-4/
LOCATION:WSU Pullman\, Lighty Student Services Building\, Room 401\, 1815 Wilson Rd\, Pullman\, 99164\, United States
END:VEVENT
BEGIN:VEVENT
DTSTART;TZID=America/Los_Angeles:20190110T090000
DTEND;TZID=America/Los_Angeles:20190110T103000
DTSTAMP:20260423T083725
CREATED:20180830T215039Z
LAST-MODIFIED:20190109T215411Z
UID:1112-1547110800-1547116200@apac.wsu.edu
SUMMARY:APAC Meeting
DESCRIPTION:Connect to APAC meetings via WSU Academic Media Services (AMS) sites \nGuest speaker: Patrick Chun\, director of athletics\, WSU Athletics \nMeeting Locations \nPullman: (Lighty 405) \nSpokane: (SAC 401A)\nTri-Cities: (Floyd 247)\nVancouver: (VDEN 301)\nPuyallup REC: (Puyallup) (K 109)\nWSU Everett \nCall-in number: 509-358-7935 | Meeting ID:  4580
URL:https://apac.wsu.edu/event/apac-meeting-5/
LOCATION:WSU Pullman\, Lighty Student Services Building\, Room 401\, 1815 Wilson Rd\, Pullman\, 99164\, United States
END:VEVENT
BEGIN:VEVENT
DTSTART;TZID=America/Los_Angeles:20190307T090000
DTEND;TZID=America/Los_Angeles:20190307T103000
DTSTAMP:20260423T083725
CREATED:20180830T215156Z
LAST-MODIFIED:20190222T224007Z
UID:1116-1551949200-1551954600@apac.wsu.edu
SUMMARY:APAC Meeting
DESCRIPTION:Connect to APAC meetings via WSU Academic Media Services (AMS) sites: Call in number: 509-358-7935 | Meeting ID:  4580 \nThe presenter will be Jim Mohr\, vice chancellor of student affairs\, from the Spokane campus. He will provide a Spokane campus update.
URL:https://apac.wsu.edu/event/apac-meeting-7/
LOCATION:WSU Pullman\, Lighty Student Services Building\, Room 401\, 1815 Wilson Rd\, Pullman\, 99164\, United States
END:VEVENT
BEGIN:VEVENT
DTSTART;TZID=America/Los_Angeles:20190411T090000
DTEND;TZID=America/Los_Angeles:20190411T090000
DTSTAMP:20260423T083725
CREATED:20180830T215334Z
LAST-MODIFIED:20190401T162409Z
UID:1118-1554973200-1554973200@apac.wsu.edu
SUMMARY:APAC Meeting
DESCRIPTION:Connect to APAC meetings via WSU Academic Media Services (AMS) sites: Call in number: 509-358-7935 | Meeting ID:  4580 \nAndre’-Denis Girard Wright\, Dean\, WSU College of Agricultural\, Human\, and Natural Resource Sciences
URL:https://apac.wsu.edu/event/apac-meeting-8/
LOCATION:WSU Pullman\, Lighty Student Services Building\, Room 401\, 1815 Wilson Rd\, Pullman\, 99164\, United States
END:VEVENT
BEGIN:VEVENT
DTSTART;TZID=America/Los_Angeles:20190509T090000
DTEND;TZID=America/Los_Angeles:20190509T103000
DTSTAMP:20260423T083725
CREATED:20180830T215408Z
LAST-MODIFIED:20190401T200110Z
UID:1120-1557392400-1557397800@apac.wsu.edu
SUMMARY:APAC Meeting
DESCRIPTION:Guest speaker: Mary Jo Gonzales\, vice president of student affairs \nConnect to APAC meetings via WSU Academic Media Services (AMS) sites: Call in number: 509-358-7935 | Meeting ID:  4580 \n 
URL:https://apac.wsu.edu/event/apac-meeting-9/
LOCATION:WSU Pullman\, Lighty Student Services Building\, Room 401\, 1815 Wilson Rd\, Pullman\, 99164\, United States
END:VEVENT
BEGIN:VEVENT
DTSTART;TZID=America/Los_Angeles:20190912T090000
DTEND;TZID=America/Los_Angeles:20190912T103000
DTSTAMP:20260423T083725
CREATED:20190729T163649Z
LAST-MODIFIED:20190729T163649Z
UID:1680-1568278800-1568284200@apac.wsu.edu
SUMMARY:APAC Monthly Meeting
DESCRIPTION:
URL:https://apac.wsu.edu/event/apac-monthly-meeting-3/
LOCATION:WSU Pullman\, Lighty Student Services Building\, Room 401\, 1815 Wilson Rd\, Pullman\, 99164\, United States
ORGANIZER;CN="WSU%20Administrative%20Professional%20Advisory%20Council":MAILTO:apac.wsu@wsu.edu
END:VEVENT
BEGIN:VEVENT
DTSTART;TZID=America/Los_Angeles:20191010T090000
DTEND;TZID=America/Los_Angeles:20191010T103000
DTSTAMP:20260423T083725
CREATED:20190729T165138Z
LAST-MODIFIED:20190729T165156Z
UID:1682-1570698000-1570703400@apac.wsu.edu
SUMMARY:APAC Monthly Meeting
DESCRIPTION:
URL:https://apac.wsu.edu/event/apac-monthly-meeting-4/
LOCATION:WSU Pullman\, Lighty Student Services Building\, Room 401\, 1815 Wilson Rd\, Pullman\, 99164\, United States
END:VEVENT
BEGIN:VEVENT
DTSTART;TZID=America/Los_Angeles:20191114T090000
DTEND;TZID=America/Los_Angeles:20191114T103000
DTSTAMP:20260423T083725
CREATED:20190729T165359Z
LAST-MODIFIED:20190729T165359Z
UID:1684-1573722000-1573727400@apac.wsu.edu
SUMMARY:APAC Monthly Meeting
DESCRIPTION:
URL:https://apac.wsu.edu/event/apac-monthly-meeting-5/
LOCATION:WSU Pullman\, Lighty Student Services Building\, Room 401\, 1815 Wilson Rd\, Pullman\, 99164\, United States
END:VEVENT
BEGIN:VEVENT
DTSTART;TZID=America/Los_Angeles:20191212T090000
DTEND;TZID=America/Los_Angeles:20191212T103000
DTSTAMP:20260423T083725
CREATED:20190729T165929Z
LAST-MODIFIED:20190729T165929Z
UID:1686-1576141200-1576146600@apac.wsu.edu
SUMMARY:APAC Monthly Meeting
DESCRIPTION:
URL:https://apac.wsu.edu/event/apac-monthly-meeting-6/
LOCATION:WSU Pullman\, Lighty Student Services Building\, Room 401\, 1815 Wilson Rd\, Pullman\, 99164\, United States
END:VEVENT
BEGIN:VEVENT
DTSTART;TZID=America/Los_Angeles:20200213T090000
DTEND;TZID=America/Los_Angeles:20200213T103000
DTSTAMP:20260423T083725
CREATED:20190729T170339Z
LAST-MODIFIED:20190729T170339Z
UID:1691-1581584400-1581589800@apac.wsu.edu
SUMMARY:APAC Monthly Meeting
DESCRIPTION:
URL:https://apac.wsu.edu/event/apac-monthly-meeting-8/
LOCATION:WSU Pullman\, Lighty Student Services Building\, Room 401\, 1815 Wilson Rd\, Pullman\, 99164\, United States
END:VEVENT
BEGIN:VEVENT
DTSTART;TZID=America/Los_Angeles:20200312T090000
DTEND;TZID=America/Los_Angeles:20200312T103000
DTSTAMP:20260423T083725
CREATED:20190729T170432Z
LAST-MODIFIED:20190729T170432Z
UID:1693-1584003600-1584009000@apac.wsu.edu
SUMMARY:APAC Monthly Meeting
DESCRIPTION:
URL:https://apac.wsu.edu/event/apac-monthly-meeting-9/
LOCATION:WSU Pullman\, Lighty Student Services Building\, Room 401\, 1815 Wilson Rd\, Pullman\, 99164\, United States
END:VEVENT
BEGIN:VEVENT
DTSTART;TZID=America/Los_Angeles:20200514T090000
DTEND;TZID=America/Los_Angeles:20200514T103000
DTSTAMP:20260423T083725
CREATED:20190729T170856Z
LAST-MODIFIED:20200916T010601Z
UID:1697-1589446800-1589452200@apac.wsu.edu
SUMMARY:APAC Monthly Meeting
DESCRIPTION:
URL:https://apac.wsu.edu/event/apac-monthly-meeting-11/
LOCATION:WSU Pullman\, Lighty Student Services Building\, Room 401\, 1815 Wilson Rd\, Pullman\, 99164\, United States
CATEGORIES:Monthly Meetings
END:VEVENT
END:VCALENDAR