BEGIN:VCALENDAR
VERSION:2.0
PRODID:-//Administrative Professional Advisory Council - ECPv6.1.3//NONSGML v1.0//EN
CALSCALE:GREGORIAN
METHOD:PUBLISH
X-WR-CALNAME:Administrative Professional Advisory Council
X-ORIGINAL-URL:https://apac.wsu.edu
X-WR-CALDESC:Events for Administrative Professional Advisory Council
REFRESH-INTERVAL;VALUE=DURATION:PT1H
X-Robots-Tag:noindex
X-PUBLISHED-TTL:PT1H
BEGIN:VTIMEZONE
TZID:America/Los_Angeles
BEGIN:DAYLIGHT
TZOFFSETFROM:-0800
TZOFFSETTO:-0700
TZNAME:PDT
DTSTART:20180311T100000
END:DAYLIGHT
BEGIN:STANDARD
TZOFFSETFROM:-0700
TZOFFSETTO:-0800
TZNAME:PST
DTSTART:20181104T090000
END:STANDARD
BEGIN:DAYLIGHT
TZOFFSETFROM:-0800
TZOFFSETTO:-0700
TZNAME:PDT
DTSTART:20190310T100000
END:DAYLIGHT
BEGIN:STANDARD
TZOFFSETFROM:-0700
TZOFFSETTO:-0800
TZNAME:PST
DTSTART:20191103T090000
END:STANDARD
BEGIN:DAYLIGHT
TZOFFSETFROM:-0800
TZOFFSETTO:-0700
TZNAME:PDT
DTSTART:20200308T100000
END:DAYLIGHT
BEGIN:STANDARD
TZOFFSETFROM:-0700
TZOFFSETTO:-0800
TZNAME:PST
DTSTART:20201101T090000
END:STANDARD
BEGIN:DAYLIGHT
TZOFFSETFROM:-0800
TZOFFSETTO:-0700
TZNAME:PDT
DTSTART:20210314T100000
END:DAYLIGHT
BEGIN:STANDARD
TZOFFSETFROM:-0700
TZOFFSETTO:-0800
TZNAME:PST
DTSTART:20211107T090000
END:STANDARD
BEGIN:DAYLIGHT
TZOFFSETFROM:-0800
TZOFFSETTO:-0700
TZNAME:PDT
DTSTART:20220313T100000
END:DAYLIGHT
BEGIN:STANDARD
TZOFFSETFROM:-0700
TZOFFSETTO:-0800
TZNAME:PST
DTSTART:20221106T090000
END:STANDARD
BEGIN:DAYLIGHT
TZOFFSETFROM:-0800
TZOFFSETTO:-0700
TZNAME:PDT
DTSTART:20230312T100000
END:DAYLIGHT
BEGIN:STANDARD
TZOFFSETFROM:-0700
TZOFFSETTO:-0800
TZNAME:PST
DTSTART:20231105T090000
END:STANDARD
END:VTIMEZONE
BEGIN:VEVENT
DTSTART;TZID=America/Los_Angeles:20180918T110000
DTEND;TZID=America/Los_Angeles:20180918T130000
DTSTAMP:20260419T134356
CREATED:20180830T220055Z
LAST-MODIFIED:20180911T153457Z
UID:1130-1537268400-1537275600@apac.wsu.edu
SUMMARY:Pullman campus ice cream social
DESCRIPTION:Location: Lighty 4th Floor
URL:https://apac.wsu.edu/event/pullman-campus-ice-cream-social/
LOCATION:Lighty
END:VEVENT
BEGIN:VEVENT
DTSTART;TZID=America/Los_Angeles:20221013T090000
DTEND;TZID=America/Los_Angeles:20221013T100000
DTSTAMP:20260419T134356
CREATED:20220716T004048Z
LAST-MODIFIED:20220716T004256Z
UID:3896-1665651600-1665655200@apac.wsu.edu
SUMMARY:Monthly APAC Meeting
DESCRIPTION:All WSU Administrative Professionals are welcome and encouraged to join this meeting. Please email the APAC Admin Support  if you experience any technical challenges. You may refer to the prospective APAC meeting agenda located on the our webpage as it becomes available. \nLocations: \n\nPullman Campus\, Lighty 405 – Live in-person option\nZoom – Live remote active engagement option\nYouTube – Live passive engagement option
URL:https://apac.wsu.edu/event/monthly-apac-meeting-10/
LOCATION:Lighty
ORGANIZER;CN="Administrative%20Professional%20Advisory%20Council":MAILTO:apac@wsu.edu
END:VEVENT
BEGIN:VEVENT
DTSTART;TZID=America/Los_Angeles:20221110T090000
DTEND;TZID=America/Los_Angeles:20221110T100000
DTSTAMP:20260419T134356
CREATED:20220716T004248Z
LAST-MODIFIED:20220716T004253Z
UID:3898-1668070800-1668074400@apac.wsu.edu
SUMMARY:Monthly APAC Meeting
DESCRIPTION:All WSU Administrative Professionals are welcome and encouraged to join this meeting. Please email the APAC Admin Support  if you experience any technical challenges. You may refer to the prospective APAC meeting agenda located on the our webpage as it becomes available. \nLocations: \n\nPullman Campus\, Lighty 405 – Live in-person option\nZoom – Live remote active engagement option\nYouTube – Live passive engagement option
URL:https://apac.wsu.edu/event/monthly-apac-meeting-11/
LOCATION:Lighty
ORGANIZER;CN="Administrative%20Professional%20Advisory%20Council":MAILTO:apac@wsu.edu
END:VEVENT
BEGIN:VEVENT
DTSTART;TZID=America/Los_Angeles:20221208T090000
DTEND;TZID=America/Los_Angeles:20221208T100000
DTSTAMP:20260419T134356
CREATED:20220716T004415Z
LAST-MODIFIED:20220716T004415Z
UID:3900-1670490000-1670493600@apac.wsu.edu
SUMMARY:Monthly APAC Meeting
DESCRIPTION:All WSU Administrative Professionals are welcome and encouraged to join this meeting. Please email the APAC Admin Support  if you experience any technical challenges. You may refer to the prospective APAC meeting agenda located on the our webpage as it becomes available. \nLocations: \n\nPullman Campus\, Lighty 405 – Live in-person option\nZoom – Live remote active engagement option\nYouTube – Live passive engagement option
URL:https://apac.wsu.edu/event/monthly-apac-meeting-12/
LOCATION:Lighty
ORGANIZER;CN="Administrative%20Professional%20Advisory%20Council":MAILTO:apac@wsu.edu
END:VEVENT
BEGIN:VEVENT
DTSTART;TZID=America/Los_Angeles:20230112T090000
DTEND;TZID=America/Los_Angeles:20230112T100000
DTSTAMP:20260419T134356
CREATED:20220716T004533Z
LAST-MODIFIED:20220716T004533Z
UID:3902-1673514000-1673517600@apac.wsu.edu
SUMMARY:Monthly APAC Meeting
DESCRIPTION:All WSU Administrative Professionals are welcome and encouraged to join this meeting. Please email the APAC Admin Support  if you experience any technical challenges. You may refer to the prospective APAC meeting agenda located on the our webpage as it becomes available. \nLocations: \n\nPullman Campus\, Lighty 405 – Live in-person option\nZoom – Live remote active engagement option\nYouTube – Live passive engagement option
URL:https://apac.wsu.edu/event/monthly-apac-meeting-13/
LOCATION:Lighty
ORGANIZER;CN="Administrative%20Professional%20Advisory%20Council":MAILTO:apac@wsu.edu
END:VEVENT
BEGIN:VEVENT
DTSTART;TZID=America/Los_Angeles:20230209T090000
DTEND;TZID=America/Los_Angeles:20230209T100000
DTSTAMP:20260419T134356
CREATED:20220716T005626Z
LAST-MODIFIED:20220716T005626Z
UID:3904-1675933200-1675936800@apac.wsu.edu
SUMMARY:Monthly APAC Meeting
DESCRIPTION:All WSU Administrative Professionals are welcome and encouraged to join this meeting. Please email the APAC Admin Support  if you experience any technical challenges. You may refer to the prospective APAC meeting agenda located on the our webpage as it becomes available. \nLocations: \n\nPullman Campus\, Lighty 405 – Live in-person option\nZoom – Live remote active engagement option\nYouTube – Live passive engagement option
URL:https://apac.wsu.edu/event/monthly-apac-meeting-14/
LOCATION:Lighty
ORGANIZER;CN="Administrative%20Professional%20Advisory%20Council":MAILTO:apac@wsu.edu
END:VEVENT
BEGIN:VEVENT
DTSTART;TZID=America/Los_Angeles:20230309T090000
DTEND;TZID=America/Los_Angeles:20230309T100000
DTSTAMP:20260419T134356
CREATED:20220716T005742Z
LAST-MODIFIED:20220716T005742Z
UID:3906-1678352400-1678356000@apac.wsu.edu
SUMMARY:APAC Monthly Meeting
DESCRIPTION:All WSU Administrative Professionals are welcome and encouraged to join this meeting. Please email the APAC Admin Support  if you experience any technical challenges. You may refer to the prospective APAC meeting agenda located on the our webpage as it becomes available. \nLocations: \n\nPullman Campus\, Lighty 405 – Live in-person option\nZoom – Live remote active engagement option\nYouTube – Live passive engagement option
URL:https://apac.wsu.edu/event/apac-monthly-meeting-12/
LOCATION:Lighty
ORGANIZER;CN="Administrative%20Professional%20Advisory%20Council":MAILTO:apac@wsu.edu
END:VEVENT
BEGIN:VEVENT
DTSTART;TZID=America/Los_Angeles:20230413T090000
DTEND;TZID=America/Los_Angeles:20230413T100000
DTSTAMP:20260419T134356
CREATED:20220716T005851Z
LAST-MODIFIED:20220716T005851Z
UID:3908-1681376400-1681380000@apac.wsu.edu
SUMMARY:Monthly APAC Meeting
DESCRIPTION:All WSU Administrative Professionals are welcome and encouraged to join this meeting. Please email the APAC Admin Support  if you experience any technical challenges. You may refer to the prospective APAC meeting agenda located on the our webpage as it becomes available. \nLocations: \n\nPullman Campus\, Lighty 405 – Live in-person option\nZoom – Live remote active engagement option\nYouTube – Live passive engagement option
URL:https://apac.wsu.edu/event/monthly-apac-meeting-15/
LOCATION:Lighty
ORGANIZER;CN="Administrative%20Professional%20Advisory%20Council":MAILTO:apac@wsu.edu
END:VEVENT
BEGIN:VEVENT
DTSTART;TZID=America/Los_Angeles:20230511T090000
DTEND;TZID=America/Los_Angeles:20230511T100000
DTSTAMP:20260419T134356
CREATED:20220716T005951Z
LAST-MODIFIED:20221110T184825Z
UID:3910-1683795600-1683799200@apac.wsu.edu
SUMMARY:Monthly APAC Meeting
DESCRIPTION:All WSU Administrative Professionals are welcome and encouraged to join this meeting. Please email the APAC Admin Support  if you experience any technical challenges. You may refer to the prospective APAC meeting agenda located on the our webpage as it becomes available. \nLocations: \n\nPullman Campus\, Lighty 405 – Live in-person option\nZoom – Live remote active engagement option\nYouTube – Live passive engagement option
URL:https://apac.wsu.edu/event/monthly-apac-meeting-16/
LOCATION:Lighty
ORGANIZER;CN="Administrative%20Professional%20Advisory%20Council":MAILTO:apac@wsu.edu
END:VEVENT
END:VCALENDAR